BEGIN:VCALENDAR
PRODID:-//Microsoft Corporation//Outlook 16.0 MIMEDIR//EN
VERSION:2.0
METHOD:REQUEST
X-MS-OLK-FORCEINSPECTOROPEN:TRUE
BEGIN:VTIMEZONE
TZID:US Eastern Standard Time
BEGIN:STANDARD
DTSTART:16011104T020000
RRULE:FREQ=YEARLY;BYDAY=1SU;BYMONTH=11
TZOFFSETFROM:-0400
TZOFFSETTO:-0500
END:STANDARD
BEGIN:DAYLIGHT
DTSTART:16010311T020000
RRULE:FREQ=YEARLY;BYDAY=2SU;BYMONTH=3
TZOFFSETFROM:-0500
TZOFFSETTO:-0400
END:DAYLIGHT
END:VTIMEZONE
BEGIN:VEVENT
ATTENDEE;CN=routing-wg@lists.gna-g.net;RSVP=TRUE:mailto:routing-wg@lists.gn
	a-g.net
ATTENDEE;CN="Dale W. Carder";RSVP=TRUE:mailto:dwcarder@es.net
ATTENDEE;CN="Steven Wallace";RSVP=TRUE:mailto:ssw@internet2.edu
ATTENDEE;CN="Brenna Meade";RSVP=TRUE:mailto:bmeade@internet2.edu
ATTENDEE;CN="Warrick Mitchell";RSVP=TRUE:mailto:warrick.mitchell@aarnet.edu
	.au
ATTENDEE;CN="Brown, Eric";ROLE=OPT-PARTICIPANT;RSVP=TRUE:mailto:brownej@vt.
	edu
ATTENDEE;CN="Schallehn, Steve [ITS]";ROLE=OPT-PARTICIPANT;RSVP=TRUE:mailto:
	sjs@iastate.edu
ATTENDEE;CN="Annalicia Duran";ROLE=OPT-PARTICIPANT;RSVP=TRUE:mailto:annadur
	a@internet2.edu
ATTENDEE;CN="Sadi Kocak";ROLE=OPT-PARTICIPANT;RSVP=TRUE:mailto:sadi.kocak@s
	urf.nl
ATTENDEE;CN="Jeff Bartig";ROLE=OPT-PARTICIPANT;RSVP=TRUE:mailto:jbartig@int
	ernet2.edu
ATTENDEE;CN="David Sinn";ROLE=OPT-PARTICIPANT;RSVP=TRUE:mailto:dsinn@uw.edu
ATTENDEE;CN="Lee Bu Sung, Francis (Assoc Prof)";ROLE=OPT-PARTICIPANT;RSVP=T
	RUE:mailto:EBSLEE@ntu.edu.sg
ATTENDEE;CN="Carsten Pettersson";ROLE=OPT-PARTICIPANT;RSVP=TRUE:mailto:cars
	ten@nordu.net
ATTENDEE;CN="Tim Chown";ROLE=OPT-PARTICIPANT;RSVP=TRUE:mailto:Tim.Chown@jis
	c.ac.uk
ATTENDEE;CN="S��ren Peter Skou";ROLE=OPT-PARTICIPANT;RSVP=TRUE:mailto:sps@n
	ordu.net
ATTENDEE;CN="Bill Owens";ROLE=OPT-PARTICIPANT;RSVP=TRUE:mailto:owens@nysern
	et.org
ATTENDEE;CN="Rick Havern";ROLE=OPT-PARTICIPANT;RSVP=TRUE:mailto:richard.hav
	ern@geant.org
ATTENDEE;CN="Turczan, Mark";ROLE=OPT-PARTICIPANT;RSVP=TRUE:mailto:mturczan@
	nyp.org
CLASS:PUBLIC
CREATED:20260421T124837Z
DESCRIPTION:Greetings Routing Working Group members\,\n\n\nOur next meeting
	 will be April 21st at 8pm US eastern time. \n\n \n\nZoom Room: https://iu
	.zoom.us/my/addlema\n\n \n\nDale Carder from ESnet will present on Autonom
	ous System Provider Authorization (ASPA) and we will have time for discuss
	ion afterwards.\n\n \n\nThanks to our presenter and we look forward to see
	ing everyone in April!\n\n \n\n
DTEND;TZID="US Eastern Standard Time":20260421T210000
DTSTAMP:20260324T183340Z
DTSTART;TZID="US Eastern Standard Time":20260421T200000
LAST-MODIFIED:20260421T124837Z
LOCATION:https://iu.zoom.us/my/addlema
ORGANIZER;CN="Addleman, Hans C":mailto:addlema@iu.edu
PRIORITY:5
SEQUENCE:0
SUMMARY;LANGUAGE=en-us:Routing Working Group April Meeting (US PM)
TRANSP:OPAQUE
UID:040000008200E00074C5B7101A82E00800000000C0727B359BBBDC01000000000000000
	01000000091431A0EB692F74A9706CA53D21C1501
X-ALT-DESC;FMTTYPE=text/html:<html xmlns:v="urn:schemas-microsoft-com:vml" 
	xmlns:o="urn:schemas-microsoft-com:office:office" xmlns:w="urn:schemas-mic
	rosoft-com:office:word" xmlns:m="http://schemas.microsoft.com/office/2004/
	12/omml" xmlns="http://www.w3.org/TR/REC-html40"><head>\n<meta name="Gener
	ator" content="Microsoft Word 15 (filtered medium)"><style><!--\n/* Font D
	efinitions */\n@font-face\n	{font-family:"Cambria Math"\;\n	panose-1:2 4 5
	 3 5 4 6 3 2 4\;}\n@font-face\n	{font-family:Aptos\;}\n/* Style Definition
	s */\np.MsoNormal\, li.MsoNormal\, div.MsoNormal\n	{margin:0in\;\n	font-si
	ze:12.0pt\;\n	font-family:"Aptos"\,sans-serif\;\n	mso-ligatures:standardco
	ntextual\;}\na:link\, span.MsoHyperlink\n	{mso-style-priority:99\;\n	color
	:#467886\;\n	text-decoration:underline\;}\nspan.EmailStyle17\n	{mso-style-
	type:personal-compose\;\n	font-family:"Aptos"\,sans-serif\;\n	color:window
	text\;}\n.MsoChpDefault\n	{mso-style-type:export-only\;}\n@page WordSectio
	n1\n	{size:8.5in 11.0in\;\n	margin:1.0in 1.0in 1.0in 1.0in\;}\ndiv.WordSec
	tion1\n	{page:WordSection1\;}\n--></style><!--[if gte mso 9]><xml>\n<o:sha
	pedefaults v:ext="edit" spidmax="1026" />\n</xml><![endif]--><!--[if gte m
	so 9]><xml>\n<o:shapelayout v:ext="edit">\n<o:idmap v:ext="edit" data="1" 
	/>\n</o:shapelayout></xml><![endif]--></head><body lang="EN-US" link="#467
	886" vlink="#96607D" style="word-wrap:break-word"><div class="WordSection1
	"><p class="MsoNormal"><span style="font-size:11.0pt">Greetings Routing Wo
	rking Group members\,<o:p></o:p></span></p><p class="MsoNormal"><span styl
	e="font-size:11.0pt"><br>Our next meeting will be April 21<sup>st</sup> at
	 8pm US eastern time. <o:p></o:p></span></p><p class="MsoNormal"><span sty
	le="font-size:11.0pt"><o:p>&nbsp\;</o:p></span></p><p class="MsoNormal"><s
	pan style="font-size:11.0pt">Zoom Room: <a href="https://iu.zoom.us/my/add
	lema">https://iu.zoom.us/my/addlema</a><o:p></o:p></span></p><p class="Mso
	Normal"><span style="font-size:11.0pt"><o:p>&nbsp\;</o:p></span></p><p cla
	ss="MsoNormal"><span style="font-size:11.0pt">Dale Carder from ESnet will 
	present on Autonomous System Provider Authorization (ASPA) and we will hav
	e time for discussion afterwards.<o:p></o:p></span></p><p class="MsoNormal
	"><span style="font-size:11.0pt"><o:p>&nbsp\;</o:p></span></p><p class="Ms
	oNormal"><span style="font-size:11.0pt">Thanks to our presenter and we loo
	k forward to seeing everyone in April!<o:p></o:p></span></p><p class="MsoN
	ormal"><span style="font-size:11.0pt"><o:p>&nbsp\;</o:p></span></p></div><
	/body></html>
X-MICROSOFT-CDO-BUSYSTATUS:BUSY
X-MICROSOFT-CDO-IMPORTANCE:1
X-MICROSOFT-DISALLOW-COUNTER:FALSE
X-MS-OLK-APPTSEQTIME:20260324T183340Z
X-MS-OLK-AUTOFILLLOCATION:FALSE
X-MS-OLK-CONFTYPE:0
BEGIN:VALARM
TRIGGER:-PT15M
ACTION:DISPLAY
DESCRIPTION:Reminder
END:VALARM
END:VEVENT
END:VCALENDAR
